BEGIN:VCALENDAR
VERSION:2.0
PRODID:-//horsealert.local//NONSGML kigkonsult.se iCalcreator 2.10.5//
CALSCALE:GREGORIAN
X-WR-TIMEZONE:Europe/Dublin
BEGIN:VTIMEZONE
TZID:Etc/GMT-1
BEGIN:STANDARD
DTSTART:20010101T000000
TZOFFSETFROM:+0100
TZOFFSETTO:+0100
TZNAME:GMT +01:00
END:STANDARD
END:VTIMEZONE
BEGIN:VEVENT
UID:20260424T093852CEST-3281ZkVg1w@horsealert.local
DTSTAMP:20260424T070452Z
CATEGORIES:Horse Alerts
DESCRIPTION:Littlewoods Ireland Ladies Day At Sligo Racecourse Mares Flat R
 ace
DTSTART:20140807T205000
LOCATION:Eire
SUMMARY:Horse Racing:Littlewoods Ireland Ladies Day At Sligo Racecourse Mar
 es Flat Race
END:VEVENT
END:VCALENDAR
