BEGIN:VCALENDAR
VERSION:2.0
PRODID:-//horsealert.local//NONSGML kigkonsult.se iCalcreator 2.10.5//
CALSCALE:GREGORIAN
X-WR-TIMEZONE:Europe/Dublin
BEGIN:VTIMEZONE
TZID:Etc/GMT-1
BEGIN:STANDARD
DTSTART:20010101T000000
TZOFFSETFROM:+0100
TZOFFSETTO:+0100
TZNAME:GMT +01:00
END:STANDARD
END:VTIMEZONE
BEGIN:VEVENT
UID:20260424T080413CEST-5810nb8jPn@horsealert.local
DTSTAMP:20260424T060413Z
CATEGORIES:Horse Alerts
DESCRIPTION:Follow Us On Twitter At Great Yarmouth Racecourse Selling Handi
 cap
DTSTART:20140807T153000
LOCATION:England
SUMMARY:Horse Racing:Follow Us On Twitter At Great Yarmouth Racecourse Sell
 ing Handicap
END:VEVENT
END:VCALENDAR
