BEGIN:VCALENDAR
VERSION:2.0
PRODID:-//horsealert.local//NONSGML kigkonsult.se iCalcreator 2.10.5//
CALSCALE:GREGORIAN
X-WR-TIMEZONE:Europe/Dublin
BEGIN:VTIMEZONE
TZID:Etc/GMT-1
BEGIN:STANDARD
DTSTART:20010101T000000
TZOFFSETFROM:+0100
TZOFFSETTO:+0100
TZNAME:GMT +01:00
END:STANDARD
END:VTIMEZONE
BEGIN:VEVENT
UID:20260424T080426CEST-9598ImzJfK@horsealert.local
DTSTAMP:20260424T060426Z
CATEGORIES:Horse Alerts
DESCRIPTION:winner.co.uk Horseracing Handicap
DTSTART:20140806T163000
LOCATION:England
SUMMARY:Horse Racing:winner.co.uk Horseracing Handicap
END:VEVENT
END:VCALENDAR
