BEGIN:VCALENDAR
VERSION:2.0
PRODID:-//horsealert.local//NONSGML kigkonsult.se iCalcreator 2.10.5//
CALSCALE:GREGORIAN
X-WR-TIMEZONE:Europe/Dublin
BEGIN:VTIMEZONE
TZID:Etc/GMT-1
BEGIN:STANDARD
DTSTART:20010101T000000
TZOFFSETFROM:+0100
TZOFFSETTO:+0100
TZNAME:GMT +01:00
END:STANDARD
END:VTIMEZONE
BEGIN:VEVENT
UID:20260424T080537CEST-3369t8zniu@horsealert.local
DTSTAMP:20260424T060437Z
CATEGORIES:Horse Alerts
DESCRIPTION:Win Big On The Betdaq Colossus Handicap \(London Mile Series Qu
 alifier\)
DTSTART:20140806T204000
LOCATION:England
SUMMARY:Horse Racing:Win Big On The Betdaq Colossus Handicap \(London Mile 
 Series Qualifier\)
END:VEVENT
END:VCALENDAR
