BEGIN:VCALENDAR
VERSION:2.0
PRODID:-//horsealert.local//NONSGML kigkonsult.se iCalcreator 2.10.5//
CALSCALE:GREGORIAN
X-WR-TIMEZONE:Europe/Dublin
BEGIN:VTIMEZONE
TZID:Etc/GMT-1
BEGIN:STANDARD
DTSTART:20010101T000000
TZOFFSETFROM:+0100
TZOFFSETTO:+0100
TZNAME:GMT +01:00
END:STANDARD
END:VTIMEZONE
BEGIN:VEVENT
UID:20260424T105716CEST-2869E958bj@horsealert.local
DTSTAMP:20260424T080416Z
CATEGORIES:Horse Alerts
DESCRIPTION:British Stallion Studs EBF Median Auction Maiden Fillies\' Stak
 es
DTSTART:20140805T140000
LOCATION:Wales
SUMMARY:Horse Racing:British Stallion Studs EBF Median Auction Maiden Filli
 es\' Stakes
END:VEVENT
END:VCALENDAR
