BEGIN:VCALENDAR
VERSION:2.0
PRODID:-//horsealert.local//NONSGML kigkonsult.se iCalcreator 2.10.5//
CALSCALE:GREGORIAN
X-WR-TIMEZONE:Europe/Dublin
BEGIN:VTIMEZONE
TZID:Etc/GMT-1
BEGIN:STANDARD
DTSTART:20010101T000000
TZOFFSETFROM:+0100
TZOFFSETTO:+0100
TZNAME:GMT +01:00
END:STANDARD
END:VTIMEZONE
BEGIN:VEVENT
UID:20260424T080513CEST-24732VLWCl@horsealert.local
DTSTAMP:20260424T060413Z
CATEGORIES:Horse Alerts
DESCRIPTION:Wishing I Was Lucky Stakes \(Pro-Am Lady Riders\' Handicap\)
DTSTART:20140804T201500
LOCATION:England
SUMMARY:Horse Racing:Wishing I Was Lucky Stakes \(Pro-Am Lady Riders\' Hand
 icap\)
END:VEVENT
END:VCALENDAR
