BEGIN:VCALENDAR
VERSION:2.0
PRODID:-//horsealert.local//NONSGML kigkonsult.se iCalcreator 2.10.5//
CALSCALE:GREGORIAN
X-WR-TIMEZONE:Europe/Dublin
BEGIN:VTIMEZONE
TZID:Etc/GMT-1
BEGIN:STANDARD
DTSTART:20010101T000000
TZOFFSETFROM:+0100
TZOFFSETTO:+0100
TZNAME:GMT +01:00
END:STANDARD
END:VTIMEZONE
BEGIN:VEVENT
UID:20260424T112845CEST-7433il5pBh@horsealert.local
DTSTAMP:20260424T090445Z
CATEGORIES:Horse Alerts
DESCRIPTION:Celebration Of The Horse Day Novices\' Hurdle \(Betfair Scottis
 h Hurdle Series Qualifier\)
DTSTART:20140730T141500
LOCATION:Scotland
SUMMARY:Horse Racing:Celebration Of The Horse Day Novices\' Hurdle \(Betfai
 r Scottish Hurdle Series Qualifier\)
END:VEVENT
END:VCALENDAR
