BEGIN:VCALENDAR
VERSION:2.0
PRODID:-//horsealert.local//NONSGML kigkonsult.se iCalcreator 2.10.5//
CALSCALE:GREGORIAN
X-WR-TIMEZONE:Europe/Dublin
BEGIN:VTIMEZONE
TZID:Etc/GMT-1
BEGIN:STANDARD
DTSTART:20010101T000000
TZOFFSETFROM:+0100
TZOFFSETTO:+0100
TZNAME:GMT +01:00
END:STANDARD
END:VTIMEZONE
BEGIN:VEVENT
UID:20260424T122757CEST-8411LUtSVS@horsealert.local
DTSTAMP:20260424T100457Z
CATEGORIES:Horse Alerts
DESCRIPTION:Isle Of Skye 8-Y-O Blended Scotch Whisky Novices\' Chase
DTSTART:20140729T180000
LOCATION:Scotland
SUMMARY:Horse Racing:Isle Of Skye 8-Y-O Blended Scotch Whisky Novices\' Cha
 se
END:VEVENT
END:VCALENDAR
