BEGIN:VCALENDAR
VERSION:2.0
PRODID:-//horsealert.local//NONSGML kigkonsult.se iCalcreator 2.10.5//
CALSCALE:GREGORIAN
X-WR-TIMEZONE:Europe/Dublin
BEGIN:VTIMEZONE
TZID:Etc/GMT-1
BEGIN:STANDARD
DTSTART:20010101T000000
TZOFFSETFROM:+0100
TZOFFSETTO:+0100
TZNAME:GMT +01:00
END:STANDARD
END:VTIMEZONE
BEGIN:VEVENT
UID:20260424T130857CEST-0150f1upVE@horsealert.local
DTSTAMP:20260424T110457Z
CATEGORIES:Horse Alerts
DESCRIPTION:Connacht Hotel \(Q.R.\) Handicap \(70-100\)
DTSTART:20140728T184500
LOCATION:Eire
SUMMARY:Horse Racing:Connacht Hotel \(Q.R.\) Handicap \(70-100\)
END:VEVENT
END:VCALENDAR
