BEGIN:VCALENDAR
VERSION:2.0
PRODID:-//horsealert.local//NONSGML kigkonsult.se iCalcreator 2.10.5//
CALSCALE:GREGORIAN
X-WR-TIMEZONE:Europe/Dublin
BEGIN:VTIMEZONE
TZID:Etc/GMT-1
BEGIN:STANDARD
DTSTART:20010101T000000
TZOFFSETFROM:+0100
TZOFFSETTO:+0100
TZNAME:GMT +01:00
END:STANDARD
END:VTIMEZONE
BEGIN:VEVENT
UID:20260424T093845CEST-4654NxeXGO@horsealert.local
DTSTAMP:20260424T070445Z
CATEGORIES:Horse Alerts
DESCRIPTION:Ginger Grouse By Famous Grouse Handicap
DTSTART:20140726T202000
LOCATION:England
SUMMARY:Horse Racing:Ginger Grouse By Famous Grouse Handicap
END:VEVENT
END:VCALENDAR
