BEGIN:VCALENDAR
VERSION:2.0
PRODID:-//horsealert.local//NONSGML kigkonsult.se iCalcreator 2.10.5//
CALSCALE:GREGORIAN
X-WR-TIMEZONE:Europe/Dublin
BEGIN:VTIMEZONE
TZID:Etc/GMT-1
BEGIN:STANDARD
DTSTART:20010101T000000
TZOFFSETFROM:+0100
TZOFFSETTO:+0100
TZNAME:GMT +01:00
END:STANDARD
END:VTIMEZONE
BEGIN:VEVENT
UID:20260424T175917CEST-9823NLBfpx@horsealert.local
DTSTAMP:20260424T150417Z
CATEGORIES:Horse Alerts
DESCRIPTION:Adnams Copper House Gin Median Auction Maiden Stakes
DTSTART:20140725T181000
LOCATION:England
SUMMARY:Horse Racing:Adnams Copper House Gin Median Auction Maiden Stakes
END:VEVENT
END:VCALENDAR
