BEGIN:VCALENDAR
VERSION:2.0
PRODID:-//horsealert.local//NONSGML kigkonsult.se iCalcreator 2.10.5//
CALSCALE:GREGORIAN
X-WR-TIMEZONE:Europe/Dublin
BEGIN:VTIMEZONE
TZID:Etc/GMT-1
BEGIN:STANDARD
DTSTART:20010101T000000
TZOFFSETFROM:+0100
TZOFFSETTO:+0100
TZNAME:GMT +01:00
END:STANDARD
END:VTIMEZONE
BEGIN:VEVENT
UID:20260424T142116CEST-5597kxA05e@horsealert.local
DTSTAMP:20260424T120416Z
CATEGORIES:Horse Alerts
DESCRIPTION:Woodcote Stud EBF Stallions Valiant Stakes \(Fillies\' Listed\)
  \(Rnd\)
DTSTART:20140725T155500
LOCATION:England
SUMMARY:Horse Racing:Woodcote Stud EBF Stallions Valiant Stakes \(Fillies\'
  Listed\) \(Rnd\)
END:VEVENT
END:VCALENDAR
