BEGIN:VCALENDAR
VERSION:2.0
PRODID:-//horsealert.local//NONSGML kigkonsult.se iCalcreator 2.10.5//
CALSCALE:GREGORIAN
X-WR-TIMEZONE:Europe/Dublin
BEGIN:VTIMEZONE
TZID:Etc/GMT-1
BEGIN:STANDARD
DTSTART:20010101T000000
TZOFFSETFROM:+0100
TZOFFSETTO:+0100
TZNAME:GMT +01:00
END:STANDARD
END:VTIMEZONE
BEGIN:VEVENT
UID:20260424T112858CEST-7638JMSUVZ@horsealert.local
DTSTAMP:20260424T090458Z
CATEGORIES:Horse Alerts
DESCRIPTION:Injured Jockeys Support Jack Berry House Maiden Auction Stakes
DTSTART:20140724T141000
LOCATION:England
SUMMARY:Horse Racing:Injured Jockeys Support Jack Berry House Maiden Auctio
 n Stakes
END:VEVENT
END:VCALENDAR
