BEGIN:VCALENDAR
VERSION:2.0
PRODID:-//horsealert.local//NONSGML kigkonsult.se iCalcreator 2.10.5//
CALSCALE:GREGORIAN
X-WR-TIMEZONE:Europe/Dublin
BEGIN:VTIMEZONE
TZID:Etc/GMT-1
BEGIN:STANDARD
DTSTART:20010101T000000
TZOFFSETFROM:+0100
TZOFFSETTO:+0100
TZNAME:GMT +01:00
END:STANDARD
END:VTIMEZONE
BEGIN:VEVENT
UID:20260424T125804CEST-8345ZZ6fLe@horsealert.local
DTSTAMP:20260424T100404Z
CATEGORIES:Horse Alerts
DESCRIPTION:civicare.co.uk Pick A Winner With Civicare Handicap Hurdle
DTSTART:20140723T161000
LOCATION:England
SUMMARY:Horse Racing:civicare.co.uk Pick A Winner With Civicare Handicap Hu
 rdle
END:VEVENT
END:VCALENDAR
