BEGIN:VCALENDAR
VERSION:2.0
PRODID:-//horsealert.local//NONSGML kigkonsult.se iCalcreator 2.10.5//
CALSCALE:GREGORIAN
X-WR-TIMEZONE:Europe/Dublin
BEGIN:VTIMEZONE
TZID:Etc/GMT-1
BEGIN:STANDARD
DTSTART:20010101T000000
TZOFFSETFROM:+0100
TZOFFSETTO:+0100
TZNAME:GMT +01:00
END:STANDARD
END:VTIMEZONE
BEGIN:VEVENT
UID:20260424T125446CEST-0054jcES36@horsealert.local
DTSTAMP:20260424T100446Z
CATEGORIES:Horse Alerts
DESCRIPTION:ISS Recruitment & Training Handicap
DTSTART:20140723T185500
LOCATION:Eire
SUMMARY:Horse Racing:ISS Recruitment & Training Handicap
END:VEVENT
END:VCALENDAR
