BEGIN:VCALENDAR
VERSION:2.0
PRODID:-//horsealert.local//NONSGML kigkonsult.se iCalcreator 2.10.5//
CALSCALE:GREGORIAN
X-WR-TIMEZONE:Europe/Dublin
BEGIN:VTIMEZONE
TZID:Etc/GMT-1
BEGIN:STANDARD
DTSTART:20010101T000000
TZOFFSETFROM:+0100
TZOFFSETTO:+0100
TZNAME:GMT +01:00
END:STANDARD
END:VTIMEZONE
BEGIN:VEVENT
UID:20260424T122759CEST-3993XLuJ6a@horsealert.local
DTSTAMP:20260424T100459Z
CATEGORIES:Horse Alerts
DESCRIPTION:Matthew Clark \'Proud To Support Bangor\' Handicap Chase
DTSTART:20140722T200000
LOCATION:Wales
SUMMARY:Horse Racing:Matthew Clark \'Proud To Support Bangor\' Handicap Cha
 se
END:VEVENT
END:VCALENDAR
