BEGIN:VCALENDAR
VERSION:2.0
PRODID:-//horsealert.local//NONSGML kigkonsult.se iCalcreator 2.10.5//
CALSCALE:GREGORIAN
X-WR-TIMEZONE:Europe/Dublin
BEGIN:VTIMEZONE
TZID:Etc/GMT-1
BEGIN:STANDARD
DTSTART:20010101T000000
TZOFFSETFROM:+0100
TZOFFSETTO:+0100
TZNAME:GMT +01:00
END:STANDARD
END:VTIMEZONE
BEGIN:VEVENT
UID:20260424T122800CEST-6992KO0re6@horsealert.local
DTSTAMP:20260424T100400Z
CATEGORIES:Horse Alerts
DESCRIPTION:Happy 40th Birthday Mark Bemrose Handicap \(Qualifier For The 1
 5000 Betfair Scottish Sprint Series Final\)
DTSTART:20140722T150000
LOCATION:Scotland
SUMMARY:Horse Racing:Happy 40th Birthday Mark Bemrose Handicap \(Qualifier 
 For The 15000 Betfair Scottish Sprint Series Final\)
END:VEVENT
END:VCALENDAR
