BEGIN:VCALENDAR
VERSION:2.0
PRODID:-//horsealert.local//NONSGML kigkonsult.se iCalcreator 2.10.5//
CALSCALE:GREGORIAN
X-WR-TIMEZONE:Europe/Dublin
BEGIN:VTIMEZONE
TZID:Etc/GMT-1
BEGIN:STANDARD
DTSTART:20010101T000000
TZOFFSETFROM:+0100
TZOFFSETTO:+0100
TZNAME:GMT +01:00
END:STANDARD
END:VTIMEZONE
BEGIN:VEVENT
UID:20260424T112814CEST-9278GNmhpv@horsealert.local
DTSTAMP:20260424T090414Z
CATEGORIES:Horse Alerts
DESCRIPTION:Doom Bar Stakes \(Registered As The Steventon Stakes\) \(Listed
 \)
DTSTART:20140719T144000
LOCATION:England
SUMMARY:Horse Racing:Doom Bar Stakes \(Registered As The Steventon Stakes\)
  \(Listed\)
END:VEVENT
END:VCALENDAR
