BEGIN:VCALENDAR
VERSION:2.0
PRODID:-//horsealert.local//NONSGML kigkonsult.se iCalcreator 2.10.5//
CALSCALE:GREGORIAN
X-WR-TIMEZONE:Europe/Dublin
BEGIN:VTIMEZONE
TZID:Etc/GMT-1
BEGIN:STANDARD
DTSTART:20010101T000000
TZOFFSETFROM:+0100
TZOFFSETTO:+0100
TZNAME:GMT +01:00
END:STANDARD
END:VTIMEZONE
BEGIN:VEVENT
UID:20260424T175955CEST-41944Lm8RV@horsealert.local
DTSTAMP:20260424T150455Z
CATEGORIES:Horse Alerts
DESCRIPTION:Al Basti Equiworld EBF Breeding Winners Fillies\' Handicap \(St
 r\)
DTSTART:20140719T140500
LOCATION:England
SUMMARY:Horse Racing:Al Basti Equiworld EBF Breeding Winners Fillies\' Hand
 icap \(Str\)
END:VEVENT
END:VCALENDAR
