BEGIN:VCALENDAR
VERSION:2.0
PRODID:-//horsealert.local//NONSGML kigkonsult.se iCalcreator 2.10.5//
CALSCALE:GREGORIAN
X-WR-TIMEZONE:Europe/Dublin
BEGIN:VTIMEZONE
TZID:Etc/GMT-1
BEGIN:STANDARD
DTSTART:20010101T000000
TZOFFSETFROM:+0100
TZOFFSETTO:+0100
TZNAME:GMT +01:00
END:STANDARD
END:VTIMEZONE
BEGIN:VEVENT
UID:20260424T125817CEST-2283V4Bc1R@horsealert.local
DTSTAMP:20260424T100417Z
CATEGORIES:Horse Alerts
DESCRIPTION:Worcester News Standard NH Flat Race \(Conditional Jockeys & Am
 ateur Riders\)
DTSTART:20140716T185500
LOCATION:England
SUMMARY:Horse Racing:Worcester News Standard NH Flat Race \(Conditional Joc
 keys & Amateur Riders\)
END:VEVENT
END:VCALENDAR
