BEGIN:VCALENDAR
VERSION:2.0
PRODID:-//horsealert.local//NONSGML kigkonsult.se iCalcreator 2.10.5//
CALSCALE:GREGORIAN
X-WR-TIMEZONE:Europe/Dublin
BEGIN:VTIMEZONE
TZID:Etc/GMT-1
BEGIN:STANDARD
DTSTART:20010101T000000
TZOFFSETFROM:+0100
TZOFFSETTO:+0100
TZNAME:GMT +01:00
END:STANDARD
END:VTIMEZONE
BEGIN:VEVENT
UID:20260424T131002CEST-0576vpiFrV@horsealert.local
DTSTAMP:20260424T110402Z
CATEGORIES:Horse Alerts
DESCRIPTION:32Red On The App Store Handicap Hurdle \(For The Ken Boulton Me
 morial Trophy\)
DTSTART:20140716T162000
LOCATION:England
SUMMARY:Horse Racing:32Red On The App Store Handicap Hurdle \(For The Ken B
 oulton Memorial Trophy\)
END:VEVENT
END:VCALENDAR
