BEGIN:VCALENDAR
VERSION:2.0
PRODID:-//horsealert.local//NONSGML kigkonsult.se iCalcreator 2.10.5//
CALSCALE:GREGORIAN
X-WR-TIMEZONE:Europe/Dublin
BEGIN:VTIMEZONE
TZID:Etc/GMT-1
BEGIN:STANDARD
DTSTART:20010101T000000
TZOFFSETFROM:+0100
TZOFFSETTO:+0100
TZNAME:GMT +01:00
END:STANDARD
END:VTIMEZONE
BEGIN:VEVENT
UID:20260424T093857CEST-6799hgKwxz@horsealert.local
DTSTAMP:20260424T070457Z
CATEGORIES:Horse Alerts
DESCRIPTION:Racing Specials At 32RedSport.com Maiden Auction Stakes
DTSTART:20140714T175000
LOCATION:England
SUMMARY:Horse Racing:Racing Specials At 32RedSport.com Maiden Auction Stake
 s
END:VEVENT
END:VCALENDAR
