BEGIN:VCALENDAR
VERSION:2.0
PRODID:-//horsealert.local//NONSGML kigkonsult.se iCalcreator 2.10.5//
CALSCALE:GREGORIAN
X-WR-TIMEZONE:Europe/Dublin
BEGIN:VTIMEZONE
TZID:Etc/GMT-1
BEGIN:STANDARD
DTSTART:20010101T000000
TZOFFSETFROM:+0100
TZOFFSETTO:+0100
TZNAME:GMT +01:00
END:STANDARD
END:VTIMEZONE
BEGIN:VEVENT
UID:20260424T130822CEST-8958TpfFbf@horsealert.local
DTSTAMP:20260424T110422Z
CATEGORIES:Horse Alerts
DESCRIPTION:World Cup Final In Play At totepool.com Handicap Hurdle
DTSTART:20140713T143000
LOCATION:Scotland
SUMMARY:Horse Racing:World Cup Final In Play At totepool.com Handicap Hurdl
 e
END:VEVENT
END:VCALENDAR
