BEGIN:VCALENDAR
VERSION:2.0
PRODID:-//horsealert.local//NONSGML kigkonsult.se iCalcreator 2.10.5//
CALSCALE:GREGORIAN
X-WR-TIMEZONE:Europe/Dublin
BEGIN:VTIMEZONE
TZID:Etc/GMT-1
BEGIN:STANDARD
DTSTART:20010101T000000
TZOFFSETFROM:+0100
TZOFFSETTO:+0100
TZNAME:GMT +01:00
END:STANDARD
END:VTIMEZONE
BEGIN:VEVENT
UID:20260424T094322CEST-94994G5HmH@horsealert.local
DTSTAMP:20260424T070422Z
CATEGORIES:Horse Alerts
DESCRIPTION:And They\'re Off With Leisuretime EBF Stallions Novice Stakes
DTSTART:20140711T183000
LOCATION:Wales
SUMMARY:Horse Racing:And They\'re Off With Leisuretime EBF Stallions Novice
  Stakes
END:VEVENT
END:VCALENDAR
