BEGIN:VCALENDAR
VERSION:2.0
PRODID:-//horsealert.local//NONSGML kigkonsult.se iCalcreator 2.10.5//
CALSCALE:GREGORIAN
X-WR-TIMEZONE:Europe/Dublin
BEGIN:VTIMEZONE
TZID:Etc/GMT-1
BEGIN:STANDARD
DTSTART:20010101T000000
TZOFFSETFROM:+0100
TZOFFSETTO:+0100
TZNAME:GMT +01:00
END:STANDARD
END:VTIMEZONE
BEGIN:VEVENT
UID:20260424T094404CEST-3229t4vX9B@horsealert.local
DTSTAMP:20260424T070404Z
CATEGORIES:Horse Alerts
DESCRIPTION:G. Marchand Stakes
DTSTART:20140708T120000
LOCATION:France
SUMMARY:Horse Racing:G. Marchand Stakes
END:VEVENT
END:VCALENDAR
