BEGIN:VCALENDAR
VERSION:2.0
PRODID:-//horsealert.local//NONSGML kigkonsult.se iCalcreator 2.10.5//
CALSCALE:GREGORIAN
X-WR-TIMEZONE:Europe/Dublin
BEGIN:VTIMEZONE
TZID:Etc/GMT-1
BEGIN:STANDARD
DTSTART:20010101T000000
TZOFFSETFROM:+0100
TZOFFSETTO:+0100
TZNAME:GMT +01:00
END:STANDARD
END:VTIMEZONE
BEGIN:VEVENT
UID:20260424T112724CEST-92139PwVPN@horsealert.local
DTSTAMP:20260424T090424Z
CATEGORIES:Horse Alerts
DESCRIPTION:Enhanced Prices On BetVictor Instabet App Apprentice Handicap
DTSTART:20140707T173000
LOCATION:Scotland
SUMMARY:Horse Racing:Enhanced Prices On BetVictor Instabet App Apprentice H
 andicap
END:VEVENT
END:VCALENDAR
