BEGIN:VCALENDAR
VERSION:2.0
PRODID:-//horsealert.local//NONSGML kigkonsult.se iCalcreator 2.10.5//
CALSCALE:GREGORIAN
X-WR-TIMEZONE:Europe/Dublin
BEGIN:VTIMEZONE
TZID:Etc/GMT-1
BEGIN:STANDARD
DTSTART:20010101T000000
TZOFFSETFROM:+0100
TZOFFSETTO:+0100
TZNAME:GMT +01:00
END:STANDARD
END:VTIMEZONE
BEGIN:VEVENT
UID:20260424T095005CEST-3526wTehpS@horsealert.local
DTSTAMP:20260424T070405Z
CATEGORIES:Horse Alerts
DESCRIPTION:Tom Halliday Memorial Conditional Jockeys\' Handicap Hurdle
DTSTART:20140706T164500
LOCATION:England
SUMMARY:Horse Racing:Tom Halliday Memorial Conditional Jockeys\' Handicap H
 urdle
END:VEVENT
END:VCALENDAR
