BEGIN:VCALENDAR
VERSION:2.0
PRODID:-//horsealert.local//NONSGML kigkonsult.se iCalcreator 2.10.5//
CALSCALE:GREGORIAN
X-WR-TIMEZONE:Europe/Dublin
BEGIN:VTIMEZONE
TZID:Etc/GMT-1
BEGIN:STANDARD
DTSTART:20010101T000000
TZOFFSETFROM:+0100
TZOFFSETTO:+0100
TZNAME:GMT +01:00
END:STANDARD
END:VTIMEZONE
BEGIN:VEVENT
UID:20260424T110616CEST-92147ARFNU@horsealert.local
DTSTAMP:20260424T090416Z
CATEGORIES:Horse Alerts
DESCRIPTION:FSB Fuel Card Amateur Riders\' Handicap
DTSTART:20140706T170000
LOCATION:Scotland
SUMMARY:Horse Racing:FSB Fuel Card Amateur Riders\' Handicap
END:VEVENT
END:VCALENDAR
