BEGIN:VCALENDAR
VERSION:2.0
PRODID:-//horsealert.local//NONSGML kigkonsult.se iCalcreator 2.10.5//
CALSCALE:GREGORIAN
X-WR-TIMEZONE:Europe/Dublin
BEGIN:VTIMEZONE
TZID:Etc/GMT-1
BEGIN:STANDARD
DTSTART:20010101T000000
TZOFFSETFROM:+0100
TZOFFSETTO:+0100
TZNAME:GMT +01:00
END:STANDARD
END:VTIMEZONE
BEGIN:VEVENT
UID:20260424T094355CEST-95060oGmEu@horsealert.local
DTSTAMP:20260424T070455Z
CATEGORIES:Horse Alerts
DESCRIPTION:Ladies Day On Friday 15th August Maiden Auction Fillies\' Stake
 s
DTSTART:20140705T190000
LOCATION:England
SUMMARY:Horse Racing:Ladies Day On Friday 15th August Maiden Auction Fillie
 s\' Stakes
END:VEVENT
END:VCALENDAR
