BEGIN:VCALENDAR
VERSION:2.0
PRODID:-//horsealert.local//NONSGML kigkonsult.se iCalcreator 2.10.5//
CALSCALE:GREGORIAN
X-WR-TIMEZONE:Europe/Dublin
BEGIN:VTIMEZONE
TZID:Etc/GMT-1
BEGIN:STANDARD
DTSTART:20010101T000000
TZOFFSETFROM:+0100
TZOFFSETTO:+0100
TZNAME:GMT +01:00
END:STANDARD
END:VTIMEZONE
BEGIN:VEVENT
UID:20260424T145159CEST-0815AmuUDe@horsealert.local
DTSTAMP:20260424T120459Z
CATEGORIES:Horse Alerts
DESCRIPTION:Atkins Whitehaven Rewarding Its Outstanding Performers Apprenti
 ce Handicap
DTSTART:20140705T174000
LOCATION:England
SUMMARY:Horse Racing:Atkins Whitehaven Rewarding Its Outstanding Performers
  Apprentice Handicap
END:VEVENT
END:VCALENDAR
