BEGIN:VCALENDAR
VERSION:2.0
PRODID:-//horsealert.local//NONSGML kigkonsult.se iCalcreator 2.10.5//
CALSCALE:GREGORIAN
X-WR-TIMEZONE:Europe/Dublin
BEGIN:VTIMEZONE
TZID:Etc/GMT-1
BEGIN:STANDARD
DTSTART:20010101T000000
TZOFFSETFROM:+0100
TZOFFSETTO:+0100
TZNAME:GMT +01:00
END:STANDARD
END:VTIMEZONE
BEGIN:VEVENT
UID:20260424T095015CEST-7222v4Wl1E@horsealert.local
DTSTAMP:20260424T070415Z
CATEGORIES:Horse Alerts
DESCRIPTION:Nick Stevens Worldpay Maiden Fillies\' Stakes
DTSTART:20140704T152500
LOCATION:England
SUMMARY:Horse Racing:Nick Stevens Worldpay Maiden Fillies\' Stakes
END:VEVENT
END:VCALENDAR
