BEGIN:VCALENDAR
VERSION:2.0
PRODID:-//horsealert.local//NONSGML kigkonsult.se iCalcreator 2.10.5//
CALSCALE:GREGORIAN
X-WR-TIMEZONE:Europe/Dublin
BEGIN:VTIMEZONE
TZID:Etc/GMT-1
BEGIN:STANDARD
DTSTART:20010101T000000
TZOFFSETFROM:+0100
TZOFFSETTO:+0100
TZNAME:GMT +01:00
END:STANDARD
END:VTIMEZONE
BEGIN:VEVENT
UID:20260424T095146CEST-96219lVFOK@horsealert.local
DTSTAMP:20260424T070446Z
CATEGORIES:Horse Alerts
DESCRIPTION:Denford Stud Irish Champions Weekend EBF Maiden Fillies\' Stake
 s
DTSTART:20140703T190000
LOCATION:England
SUMMARY:Horse Racing:Denford Stud Irish Champions Weekend EBF Maiden Fillie
 s\' Stakes
END:VEVENT
END:VCALENDAR
