BEGIN:VCALENDAR
VERSION:2.0
PRODID:-//horsealert.local//NONSGML kigkonsult.se iCalcreator 2.10.5//
CALSCALE:GREGORIAN
X-WR-TIMEZONE:Europe/Dublin
BEGIN:VTIMEZONE
TZID:Etc/GMT-1
BEGIN:STANDARD
DTSTART:20010101T000000
TZOFFSETFROM:+0100
TZOFFSETTO:+0100
TZNAME:GMT +01:00
END:STANDARD
END:VTIMEZONE
BEGIN:VEVENT
UID:20260424T105715CEST-2833JwjnRE@horsealert.local
DTSTAMP:20260424T080415Z
CATEGORIES:Horse Alerts
DESCRIPTION:Lyrath Estate & Spa Summer Ladies Day 13th July At Fairyhouse H
 andicap
DTSTART:20140702T200000
LOCATION:Eire
SUMMARY:Horse Racing:Lyrath Estate & Spa Summer Ladies Day 13th July At Fai
 ryhouse Handicap
END:VEVENT
END:VCALENDAR
