BEGIN:VCALENDAR
VERSION:2.0
PRODID:-//horsealert.local//NONSGML kigkonsult.se iCalcreator 2.10.5//
CALSCALE:GREGORIAN
X-WR-TIMEZONE:Europe/Dublin
BEGIN:VTIMEZONE
TZID:Etc/GMT-1
BEGIN:STANDARD
DTSTART:20010101T000000
TZOFFSETFROM:+0100
TZOFFSETTO:+0100
TZNAME:GMT +01:00
END:STANDARD
END:VTIMEZONE
BEGIN:VEVENT
UID:20260424T095005CEST-5270u4Mgkg@horsealert.local
DTSTAMP:20260424T070405Z
CATEGORIES:Horse Alerts
DESCRIPTION:Hens & Stags Silver Package From 19 Apprentice Handicap \(47-65
 \)
DTSTART:20140701T185000
LOCATION:Eire
SUMMARY:Horse Racing:Hens & Stags Silver Package From 19 Apprentice Handica
 p \(47-65\)
END:VEVENT
END:VCALENDAR
