BEGIN:VCALENDAR
VERSION:2.0
PRODID:-//horsealert.local//NONSGML kigkonsult.se iCalcreator 2.10.5//
CALSCALE:GREGORIAN
X-WR-TIMEZONE:Europe/Dublin
BEGIN:VTIMEZONE
TZID:Etc/GMT-1
BEGIN:STANDARD
DTSTART:20010101T000000
TZOFFSETFROM:+0100
TZOFFSETTO:+0100
TZNAME:GMT +01:00
END:STANDARD
END:VTIMEZONE
BEGIN:VEVENT
UID:20260424T095055CEST-3329VUaZiR@horsealert.local
DTSTAMP:20260424T070455Z
CATEGORIES:Horse Alerts
DESCRIPTION:Unibet By Players For Players Maiden Handicap
DTSTART:20140701T204000
LOCATION:England
SUMMARY:Horse Racing:Unibet By Players For Players Maiden Handicap
END:VEVENT
END:VCALENDAR
