BEGIN:VCALENDAR
VERSION:2.0
PRODID:-//horsealert.local//NONSGML kigkonsult.se iCalcreator 2.10.5//
CALSCALE:GREGORIAN
X-WR-TIMEZONE:Europe/Dublin
BEGIN:VTIMEZONE
TZID:Etc/GMT-1
BEGIN:STANDARD
DTSTART:20010101T000000
TZOFFSETFROM:+0100
TZOFFSETTO:+0100
TZNAME:GMT +01:00
END:STANDARD
END:VTIMEZONE
BEGIN:VEVENT
UID:20260424T112758CEST-8730xf2J39@horsealert.local
DTSTAMP:20260424T090458Z
CATEGORIES:Horse Alerts
DESCRIPTION:Qatar Coupe De Frances Des Chevaux Arabe Group 1 Arabian
DTSTART:20140630T142000
LOCATION:France
SUMMARY:Horse Racing:Qatar Coupe De Frances Des Chevaux Arabe Group 1 Arabi
 an
END:VEVENT
END:VCALENDAR
