BEGIN:VCALENDAR
VERSION:2.0
PRODID:-//horsealert.local//NONSGML kigkonsult.se iCalcreator 2.10.5//
CALSCALE:GREGORIAN
X-WR-TIMEZONE:Europe/Dublin
BEGIN:VTIMEZONE
TZID:Etc/GMT-1
BEGIN:STANDARD
DTSTART:20010101T000000
TZOFFSETFROM:+0100
TZOFFSETTO:+0100
TZNAME:GMT +01:00
END:STANDARD
END:VTIMEZONE
BEGIN:VEVENT
UID:20260424T112816CEST-9859RA5x7S@horsealert.local
DTSTAMP:20260424T090416Z
CATEGORIES:Horse Alerts
DESCRIPTION:Dubai Duty Free Millenium Millionaire Celebration Stakes \(List
 ed\)
DTSTART:20140628T184000
LOCATION:Eire
SUMMARY:Horse Racing:Dubai Duty Free Millenium Millionaire Celebration Stak
 es \(Listed\)
END:VEVENT
END:VCALENDAR
