BEGIN:VCALENDAR
VERSION:2.0
PRODID:-//horsealert.local//NONSGML kigkonsult.se iCalcreator 2.10.5//
CALSCALE:GREGORIAN
X-WR-TIMEZONE:Europe/Dublin
BEGIN:VTIMEZONE
TZID:Etc/GMT-1
BEGIN:STANDARD
DTSTART:20010101T000000
TZOFFSETFROM:+0100
TZOFFSETTO:+0100
TZNAME:GMT +01:00
END:STANDARD
END:VTIMEZONE
BEGIN:VEVENT
UID:20260424T112802CEST-4261erk8bj@horsealert.local
DTSTAMP:20260424T090402Z
CATEGORIES:Horse Alerts
DESCRIPTION:Clark - 3 Generations Of Birthdays Handicap
DTSTART:20140628T182000
LOCATION:England
SUMMARY:Horse Racing:Clark - 3 Generations Of Birthdays Handicap
END:VEVENT
END:VCALENDAR
