BEGIN:VCALENDAR
VERSION:2.0
PRODID:-//horsealert.local//NONSGML kigkonsult.se iCalcreator 2.10.5//
CALSCALE:GREGORIAN
X-WR-TIMEZONE:Europe/Dublin
BEGIN:VTIMEZONE
TZID:Etc/GMT-1
BEGIN:STANDARD
DTSTART:20010101T000000
TZOFFSETFROM:+0100
TZOFFSETTO:+0100
TZNAME:GMT +01:00
END:STANDARD
END:VTIMEZONE
BEGIN:VEVENT
UID:20260424T112810CEST-8215gZFd6l@horsealert.local
DTSTAMP:20260424T090410Z
CATEGORIES:Horse Alerts
DESCRIPTION:Betfred TV/EBF Stallions Hoppings Stakes \(Fillies\' Listed\)
DTSTART:20140627T191000
LOCATION:England
SUMMARY:Horse Racing:Betfred TV/EBF Stallions Hoppings Stakes \(Fillies\' L
 isted\)
END:VEVENT
END:VCALENDAR
