BEGIN:VCALENDAR
VERSION:2.0
PRODID:-//horsealert.local//NONSGML kigkonsult.se iCalcreator 2.10.5//
CALSCALE:GREGORIAN
X-WR-TIMEZONE:Europe/Dublin
BEGIN:VTIMEZONE
TZID:Etc/GMT-1
BEGIN:STANDARD
DTSTART:20010101T000000
TZOFFSETFROM:+0100
TZOFFSETTO:+0100
TZNAME:GMT +01:00
END:STANDARD
END:VTIMEZONE
BEGIN:VEVENT
UID:20260424T112750CEST-3088RP55ox@horsealert.local
DTSTAMP:20260424T090450Z
CATEGORIES:Horse Alerts
DESCRIPTION:Boogie In The Morning Handicap \(Qualifier For The 15\,000 Betf
 air Scottish Stayers Series Final\)
DTSTART:20140627T165500
LOCATION:Scotland
SUMMARY:Horse Racing:Boogie In The Morning Handicap \(Qualifier For The 15\
 ,000 Betfair Scottish Stayers Series Final\)
END:VEVENT
END:VCALENDAR
