BEGIN:VCALENDAR
VERSION:2.0
PRODID:-//horsealert.local//NONSGML kigkonsult.se iCalcreator 2.10.5//
CALSCALE:GREGORIAN
X-WR-TIMEZONE:Europe/Dublin
BEGIN:VTIMEZONE
TZID:Etc/GMT-1
BEGIN:STANDARD
DTSTART:20010101T000000
TZOFFSETFROM:+0100
TZOFFSETTO:+0100
TZNAME:GMT +01:00
END:STANDARD
END:VTIMEZONE
BEGIN:VEVENT
UID:20260424T130936CEST-1627S6kJu7@horsealert.local
DTSTAMP:20260424T110436Z
CATEGORIES:Horse Alerts
DESCRIPTION:Saints & Sinners Lady Amateur Riders\' Handicap \(For Saints & 
 Sinners Challenge Cup\)
DTSTART:20140626T182000
LOCATION:Scotland
SUMMARY:Horse Racing:Saints & Sinners Lady Amateur Riders\' Handicap \(For 
 Saints & Sinners Challenge Cup\)
END:VEVENT
END:VCALENDAR
