BEGIN:VCALENDAR
VERSION:2.0
PRODID:-//horsealert.local//NONSGML kigkonsult.se iCalcreator 2.10.5//
CALSCALE:GREGORIAN
X-WR-TIMEZONE:Europe/Dublin
BEGIN:VTIMEZONE
TZID:Etc/GMT-1
BEGIN:STANDARD
DTSTART:20010101T000000
TZOFFSETFROM:+0100
TZOFFSETTO:+0100
TZNAME:GMT +01:00
END:STANDARD
END:VTIMEZONE
BEGIN:VEVENT
UID:20260424T130934CEST-80226vPvbh@horsealert.local
DTSTAMP:20260424T110434Z
CATEGORIES:Horse Alerts
DESCRIPTION:Follow Tonights World Cup At footballscores.com Handicap \(Gras
 sroots Flat Middle Distance Qualifier\)
DTSTART:20140626T161000
LOCATION:England
SUMMARY:Horse Racing:Follow Tonights World Cup At footballscores.com Handic
 ap \(Grassroots Flat Middle Distance Qualifier\)
END:VEVENT
END:VCALENDAR
