BEGIN:VCALENDAR
VERSION:2.0
PRODID:-//horsealert.local//NONSGML kigkonsult.se iCalcreator 2.10.5//
CALSCALE:GREGORIAN
X-WR-TIMEZONE:Europe/Dublin
BEGIN:VTIMEZONE
TZID:Etc/GMT-1
BEGIN:STANDARD
DTSTART:20010101T000000
TZOFFSETFROM:+0100
TZOFFSETTO:+0100
TZNAME:GMT +01:00
END:STANDARD
END:VTIMEZONE
BEGIN:VEVENT
UID:20260424T112833CEST-9801fWgr3s@horsealert.local
DTSTAMP:20260424T090433Z
CATEGORIES:Horse Alerts
DESCRIPTION:World Cup Free Bets At bookmakers.co.uk Handicap Hurdle
DTSTART:20140625T163000
LOCATION:England
SUMMARY:Horse Racing:World Cup Free Bets At bookmakers.co.uk Handicap Hurdl
 e
END:VEVENT
END:VCALENDAR
