BEGIN:VCALENDAR
VERSION:2.0
PRODID:-//horsealert.local//NONSGML kigkonsult.se iCalcreator 2.10.5//
CALSCALE:GREGORIAN
X-WR-TIMEZONE:Europe/Dublin
BEGIN:VTIMEZONE
TZID:Etc/GMT-1
BEGIN:STANDARD
DTSTART:20010101T000000
TZOFFSETFROM:+0100
TZOFFSETTO:+0100
TZNAME:GMT +01:00
END:STANDARD
END:VTIMEZONE
BEGIN:VEVENT
UID:20260424T131008CEST-6530vthRUW@horsealert.local
DTSTAMP:20260424T110408Z
CATEGORIES:Horse Alerts
DESCRIPTION:Revamp Building And Renovations Supporting Naas Hurling Apprent
 ice Handicap \(47-75\)
DTSTART:20140625T200000
LOCATION:Eire
SUMMARY:Horse Racing:Revamp Building And Renovations Supporting Naas Hurlin
 g Apprentice Handicap \(47-75\)
END:VEVENT
END:VCALENDAR
