BEGIN:VCALENDAR
VERSION:2.0
PRODID:-//horsealert.local//NONSGML kigkonsult.se iCalcreator 2.10.5//
CALSCALE:GREGORIAN
X-WR-TIMEZONE:Europe/Dublin
BEGIN:VTIMEZONE
TZID:Etc/GMT-1
BEGIN:STANDARD
DTSTART:20010101T000000
TZOFFSETFROM:+0100
TZOFFSETTO:+0100
TZNAME:GMT +01:00
END:STANDARD
END:VTIMEZONE
BEGIN:VEVENT
UID:20260424T131021CEST-6979RzfFii@horsealert.local
DTSTAMP:20260424T110421Z
CATEGORIES:Horse Alerts
DESCRIPTION:KC Civil Engineering Supporting Naas Hurling Handicap \(47-65\)
DTSTART:20140625T190000
LOCATION:Eire
SUMMARY:Horse Racing:KC Civil Engineering Supporting Naas Hurling Handicap 
 \(47-65\)
END:VEVENT
END:VCALENDAR
