BEGIN:VCALENDAR
VERSION:2.0
PRODID:-//horsealert.local//NONSGML kigkonsult.se iCalcreator 2.10.5//
CALSCALE:GREGORIAN
X-WR-TIMEZONE:Europe/Dublin
BEGIN:VTIMEZONE
TZID:Etc/GMT-1
BEGIN:STANDARD
DTSTART:20010101T000000
TZOFFSETFROM:+0100
TZOFFSETTO:+0100
TZNAME:GMT +01:00
END:STANDARD
END:VTIMEZONE
BEGIN:VEVENT
UID:20260424T112625CEST-66216SuNDb@horsealert.local
DTSTAMP:20260424T090425Z
CATEGORIES:Horse Alerts
DESCRIPTION:Live The Dream With Tote Galway Plate Trial Handicap Chase
DTSTART:20140620T201500
LOCATION:Northern Ireland
SUMMARY:Horse Racing:Live The Dream With Tote Galway Plate Trial Handicap C
 hase
END:VEVENT
END:VCALENDAR
