BEGIN:VCALENDAR
VERSION:2.0
PRODID:-//horsealert.local//NONSGML kigkonsult.se iCalcreator 2.10.5//
CALSCALE:GREGORIAN
X-WR-TIMEZONE:Europe/Dublin
BEGIN:VTIMEZONE
TZID:Etc/GMT-1
BEGIN:STANDARD
DTSTART:20010101T000000
TZOFFSETFROM:+0100
TZOFFSETTO:+0100
TZNAME:GMT +01:00
END:STANDARD
END:VTIMEZONE
BEGIN:VEVENT
UID:20260424T112727CEST-7425H2Fgew@horsealert.local
DTSTAMP:20260424T090427Z
CATEGORIES:Horse Alerts
DESCRIPTION:Quarrydale\, Topvalley\, Carlton Lewillows Partnership Exchange
  Novices\' Hurdle
DTSTART:20140618T194000
LOCATION:England
SUMMARY:Horse Racing:Quarrydale\, Topvalley\, Carlton Lewillows Partnership
  Exchange Novices\' Hurdle
END:VEVENT
END:VCALENDAR
