BEGIN:VCALENDAR
VERSION:2.0
PRODID:-//horsealert.local//NONSGML kigkonsult.se iCalcreator 2.10.5//
CALSCALE:GREGORIAN
X-WR-TIMEZONE:Europe/Dublin
BEGIN:VTIMEZONE
TZID:Etc/GMT-1
BEGIN:STANDARD
DTSTART:20010101T000000
TZOFFSETFROM:+0100
TZOFFSETTO:+0100
TZNAME:GMT +01:00
END:STANDARD
END:VTIMEZONE
BEGIN:VEVENT
UID:20260424T112641CEST-4126Ng99zX@horsealert.local
DTSTAMP:20260424T090441Z
CATEGORIES:Horse Alerts
DESCRIPTION:IJF Text 70800 To Donate 5 Mares\' Novices\' Hurdle
DTSTART:20140617T144500
LOCATION:England
SUMMARY:Horse Racing:IJF Text 70800 To Donate 5 Mares\' Novices\' Hurdle
END:VEVENT
END:VCALENDAR
