BEGIN:VCALENDAR
VERSION:2.0
PRODID:-//horsealert.local//NONSGML kigkonsult.se iCalcreator 2.10.5//
CALSCALE:GREGORIAN
X-WR-TIMEZONE:Europe/Dublin
BEGIN:VTIMEZONE
TZID:Etc/GMT-1
BEGIN:STANDARD
DTSTART:20010101T000000
TZOFFSETFROM:+0100
TZOFFSETTO:+0100
TZNAME:GMT +01:00
END:STANDARD
END:VTIMEZONE
BEGIN:VEVENT
UID:20260424T112631CEST-0513V5ZO8U@horsealert.local
DTSTAMP:20260424T090431Z
CATEGORIES:Horse Alerts
DESCRIPTION:Audi Sligo Apprentice Handicap \(47-65\)
DTSTART:20140617T202000
LOCATION:Eire
SUMMARY:Horse Racing:Audi Sligo Apprentice Handicap \(47-65\)
END:VEVENT
END:VCALENDAR
