BEGIN:VCALENDAR
VERSION:2.0
PRODID:-//horsealert.local//NONSGML kigkonsult.se iCalcreator 2.10.5//
CALSCALE:GREGORIAN
X-WR-TIMEZONE:Europe/Dublin
BEGIN:VTIMEZONE
TZID:Etc/GMT-1
BEGIN:STANDARD
DTSTART:20010101T000000
TZOFFSETFROM:+0100
TZOFFSETTO:+0100
TZNAME:GMT +01:00
END:STANDARD
END:VTIMEZONE
BEGIN:VEVENT
UID:20260424T131025CEST-2534w4bKvm@horsealert.local
DTSTAMP:20260424T110425Z
CATEGORIES:Horse Alerts
DESCRIPTION:starspreads.com England World Cup Offers Handicap
DTSTART:20140617T193000
LOCATION:England
SUMMARY:Horse Racing:starspreads.com England World Cup Offers Handicap
END:VEVENT
END:VCALENDAR
